Workbook

Sheet Лист_1
A1: Школа | B1: Кухня шк. 48 | E1: Отд./корп | F1: 1,2,3 | G1: День | H1: 06.10.26
A3: Прием пищи | B3: Раздел | C3: № рец. | D3: Блюдо | E3: Выход | F3: Цена | G3: Калорийность | H3: Белки | I3: Жиры | J3: Углеводы
A4: Завтрак | B4: Бутерброды | D4: Тост с сыром "Гауда" | E4: 31,5 | G4: 93,65 | H4: 5,3 | I4: 4,05 | J4: 8,99
A5: Завтрак | B5: Блюда из мяса | C5: 436 | D5: Шурпа "По-деревенски" | E5: 177 | G5: 305,17 | H5: 13,47 | I5: 17,83 | J5: 21,79
A6: Завтрак | B6: Напитки | C6: 846 | D6: Напиток из шиповника | E6: 200 | G6: 57,6 | H6: 0,54 | I6: 0,22 | J6: 13,73
A7: Завтрак | B7: Соки и напитки 30% | C7: 698 | D7: Йогурт питьевой клубника-земляника | E7: 80 | G7: 59,2 | H7: 2,24 | I7: 2 | J7: 8,8
A8: Завтрак | B8: Хлебобулочные изделия | D8: Хлеб ржаной йодированный "Николаевский" | E8: 18 | G8: 43,2 | H8: 1,33 | I8: 0,41 | J8: 8,55
E9: 506,5 | F9: 107,70 | G9: 558,82 | H9: 22,88 | I9: 24,51 | J9: 61,86
A10: Завтрак | B10: Салаты | C10: 19 | D10: Помидоры свежие с маслом | E10: 60 | G10: 46,08 | H10: 0,49 | I10: 4,11 | J10: 1,51
A11: Завтрак | B11: Блюда из птицы | D11: Мясо птицы в сливочном соусе с макаронным гарниром | E11: 195 | G11: 336,24 | H11: 20,62 | I11: 9,61 | J11: 41,58
A12: Завтрак | B12: Горячие напитки | C12: 391 | D12: Чай "Ягодка" | E12: 200 | G12: 35,71 | H12: 0,1 | I12: 0,04 | J12: 8,73
A13: Завтрак | B13: Фрукты | D13: Фрукт нектарин свежий | E13: 110 | G13: 48,4 | H13: 1,21 | I13: 0,33 | J13: 9,79
A14: Завтрак | B14: Хлебобулочные изделия | D14: Хлеб ржаной йодированный "Николаевский" | E14: 29 | G14: 69,6 | H14: 2,15 | I14: 0,67 | J14: 13,78
E15: 594 | F15: 107,70 | G15: 536,03 | H15: 24,57 | I15: 14,76 | J15: 75,39
A16: =[1]Лист_1!A4 -> Завтрак | B16: =[1]Лист_1!B4 -> Бутерброды | C16: =[1]Лист_1!C4 -> 0 | D16: =[1]Лист_1!D4 -> Тост с сыром "Гауда" | E16: =[1]Лист_1!E4 -> 31,5 | F16: =[1]Лист_1!F4 -> 0 | G16: =[1]Лист_1!G4 -> 93,65 | H16: =[1]Лист_1!H4 -> 5,3 | ... J16: =[1]Лист_1!J4 -> 8,99
A17: =[1]Лист_1!A5 -> Завтрак | B17: =[1]Лист_1!B5 -> Бутерброды | C17: =[1]Лист_1!C5 -> 18 | D17: =[1]Лист_1!D5 -> Масло сладко-сливочное порционно | E17: =[1]Лист_1!E5 -> 8,75 | F17: =[1]Лист_1!F5 -> 0 | G17: =[1]Лист_1!G5 -> 57,93 | H17: =[1]Лист_1!H5 -> 0,09 | ... J17: =[1]Лист_1!J5 -> 0,12
A18: =[1]Лист_1!A6 -> Завтрак | B18: =[1]Лист_1!B6 -> Первые блюда | C18: =[1]Лист_1!C6 -> 120 | D18: =[1]Лист_1!D6 -> Суп молочный с макаронными изделиями | E18: =[1]Лист_1!E6 -> 200 | F18: =[1]Лист_1!F6 -> 0 | G18: =[1]Лист_1!G6 -> 148,88 | H18: =[1]Лист_1!H6 -> 5,88 | ... J18: =[1]Лист_1!J6 -> 18,53
A19: =[1]Лист_1!A7 -> Завтрак | B19: =[1]Лист_1!B7 -> Горячие напитки | C19: =[1]Лист_1!C7 -> 692 | D19: =[1]Лист_1!D7 -> Кофейный напиток с цикорием и молоком | E19: =[1]Лист_1!E7 -> 200 | F19: =[1]Лист_1!F7 -> 0 | G19: =[1]Лист_1!G7 -> 95,1 | H19: =[1]Лист_1!H7 -> 3,91 | ... J19: =[1]Лист_1!J7 -> 12,17
A20: =[1]Лист_1!A8 -> Завтрак | B20: =[1]Лист_1!B8 -> Сладкое блюдо /каждому/ | C20: =[1]Лист_1!C8 -> 0 | D20: =[1]Лист_1!D8 -> Творог с земляникой и дыней со вкусом банановое мороженое ТМ "Растишка" | E20: =[1]Лист_1!E8 -> 45 | F20: =[1]Лист_1!F8 -> 0 | G20: =[1]Лист_1!G8 -> 46,8 | H20: =[1]Лист_1!H8 -> 2,88 | ... J20: =[1]Лист_1!J8 -> 5,27
A21: =[1]Лист_1!A9 -> Завтрак | B21: =[1]Лист_1!B9 -> Хлебобулочные изделия | C21: =[1]Лист_1!C9 -> 0 | D21: =[1]Лист_1!D9 -> Хлеб пшеничный витаминиз. "Рябинушка" | E21: =[1]Лист_1!E9 -> 17 | F21: =[1]Лист_1!F9 -> 0 | G21: =[1]Лист_1!G9 -> 42,84 | H21: =[1]Лист_1!H9 -> 1,36 | ... J21: =[1]Лист_1!J9 -> 8,84
A22: =[1]Лист_1!A10 -> Завтрак | B22: =[1]Лист_1!B10 -> Хлебобулочные изделия | C22: =[1]Лист_1!C10 -> 0 | D22: =[1]Лист_1!D10 -> Хлеб тостовый ржаной "Волшебная рожь" | E22: =[1]Лист_1!E10 -> 20 | F22: =[1]Лист_1!F10 -> 0 | G22: =[1]Лист_1!G10 -> 44,4 | H22: =[1]Лист_1!H10 -> 2,74 | ... J22: =[1]Лист_1!J10 -> 7,1
E23: =[1]Лист_1!E11 -> 522,25 | F23: =[1]Лист_1!F11 -> 0 | G23: =[1]Лист_1!G11 -> 529,6 | H23: =[1]Лист_1!H11 -> 22,16 | I23: =[1]Лист_1!I11 -> 20,91 | J23: =[1]Лист_1!J11 -> 61,02
A24: =[1]Лист_1!A12 -> Обед | B24: =[1]Лист_1!B12 -> Салаты | C24: =[1]Лист_1!C12 -> 19 | D24: =[1]Лист_1!D12 -> Помидоры свежие с маслом | E24: =[1]Лист_1!E12 -> 80 | F24: =[1]Лист_1!F12 -> 0 | G24: =[1]Лист_1!G12 -> 61,44 | H24: =[1]Лист_1!H12 -> 0,65 | ... J24: =[1]Лист_1!J12 -> 2,01
A25: =[1]Лист_1!A13 -> Обед | B25: =[1]Лист_1!B13 -> Первые блюда | C25: =[1]Лист_1!C13 -> 114 | D25: =[1]Лист_1!D13 -> Борщ с капустой, картофелем с мясом свинины, сметаной и зеленью | E25: =[1]Лист_1!E13 -> 250 | F25: =[1]Лист_1!F13 -> 0 | G25: =[1]Лист_1!G13 -> 175,9 | H25: =[1]Лист_1!H13 -> 6,7 | ... J25: =[1]Лист_1!J13 -> 10,88
A26: =[1]Лист_1!A14 -> Обед | B26: =[1]Лист_1!B14 -> Блюда из мяса | C26: =[1]Лист_1!C14 -> 436 | D26: =[1]Лист_1!D14 -> Жаркое "По-деревенски" с мясом | E26: =[1]Лист_1!E14 -> 150 | F26: =[1]Лист_1!F14 -> 0 | G26: =[1]Лист_1!G14 -> 281,91 | H26: =[1]Лист_1!H14 -> 14,45 | ... J26: =[1]Лист_1!J14 -> 20,58
A27: =[1]Лист_1!A15 -> Обед | B27: =[1]Лист_1!B15 -> Кисель | C27: =[1]Лист_1!C15 -> 648 | D27: =[1]Лист_1!D15 -> Кисель витаминизированный | E27: =[1]Лист_1!E15 -> 200 | F27: =[1]Лист_1!F15 -> 0 | G27: =[1]Лист_1!G15 -> 95 | H27: =[1]Лист_1!H15 -> 0 | ... J27: =[1]Лист_1!J15 -> 23,5
A28: =[1]Лист_1!A16 -> Обед | B28: =[1]Лист_1!B16 -> Соки и напитки 30% | C28: =[1]Лист_1!C16 -> 0 | D28: =[1]Лист_1!D16 -> Нектар яблочно-грушевый с мякотью 125мл. ТМ "Мой" | E28: =[1]Лист_1!E16 -> 125 | F28: =[1]Лист_1!F16 -> 0 | G28: =[1]Лист_1!G16 -> 60 | H28: =[1]Лист_1!H16 -> 0 | ... J28: =[1]Лист_1!J16 -> 15
A29: =[1]Лист_1!A17 -> Обед | B29: =[1]Лист_1!B17 -> Хлебобулочные изделия | C29: =[1]Лист_1!C17 -> 0 | D29: =[1]Лист_1!D17 -> Хлеб пшеничный витаминиз. "Рябинушка" | E29: =[1]Лист_1!E17 -> 20 | F29: =[1]Лист_1!F17 -> 0 | G29: =[1]Лист_1!G17 -> 50,4 | H29: =[1]Лист_1!H17 -> 1,6 | ... J29: =[1]Лист_1!J17 -> 10,4
A30: =[1]Лист_1!A18 -> Обед | B30: =[1]Лист_1!B18 -> Хлебобулочные изделия | C30: =[1]Лист_1!C18 -> 0 | D30: =[1]Лист_1!D18 -> Хлеб тостовый ржаной "Волшебная рожь" | E30: =[1]Лист_1!E18 -> 21 | F30: =[1]Лист_1!F18 -> 0 | G30: =[1]Лист_1!G18 -> 46,62 | H30: =[1]Лист_1!H18 -> 2,88 | ... J30: =[1]Лист_1!J18 -> 7,46
E31: =[1]Лист_1!E19 -> 846 | F31: =[1]Лист_1!F19 -> 246,10 | G31: =[1]Лист_1!G19 -> 771,27 | H31: =[1]Лист_1!H19 -> 26,28 | I31: =[1]Лист_1!I19 -> 33,24 | J31: =[1]Лист_1!J19 -> 89,83
